BEGIN:VCALENDAR
VERSION:2.0
PRODID:-//wp-events-plugin.com//7.2.3.1//EN
TZID:America/New_York
X-WR-TIMEZONE:America/New_York
BEGIN:VEVENT
UID:120@elcct.org
DTSTART;TZID=America/New_York:20260321T180000
DTEND;TZID=America/New_York:20260321T230000
DTSTAMP:20260203T151253Z
URL:https://elcct.org/events/annual-comedy-night-fundraiser-2026/
SUMMARY:2026 Annual Comedy Night Dinner
DESCRIPTION:Join us for our largest annual fundraiser\, the highly anticipa
 ted Comedy Night! This year's event will return to the Bristol Event Cente
 r on Saturday\, March 21st\, 2026.\n\nVisit HERE for more information on t
 his event.\n
ATTACH;FMTTYPE=image/jpeg:https://elcct.org/wp-content/uploads/2026/02/202
 6ComedyNightLandingPageTemplateFinalKC.jpg
END:VEVENT
BEGIN:VTIMEZONE
TZID:America/New_York
X-LIC-LOCATION:America/New_York
BEGIN:DAYLIGHT
DTSTART:20260308T030000
TZOFFSETFROM:-0500
TZOFFSETTO:-0400
TZNAME:EDT
END:DAYLIGHT
END:VTIMEZONE
END:VCALENDAR