BEGIN:VCALENDAR
VERSION:2.0
PRODID:-//wp-events-plugin.com//7.2.3.1//EN
TZID:America/New_York
X-WR-TIMEZONE:America/New_York
BEGIN:VEVENT
UID:119@elcct.org
DTSTART;TZID=America/New_York:20260307T080000
DTEND;TZID=America/New_York:20260307T120000
DTSTAMP:20260217T153704Z
URL:https://elcct.org/events/annual-pancake-breakfast-and-maple-sugaring-d
 emonstration-2026/
SUMMARY:Annual Pancake Breakfast and Maple Sugaring Demonstration 2026
DESCRIPTION:The Pancake Breakfast and Maple Sugaring Demonstration at India
 n Rock Nature Preserve will be Dine-In or Take-Out for 2026. Held on Satur
 day\, March 7th\, 2026.\n\nPre-registration Preferred but Walk-ins are Wel
 come\nBreakfast is $10 per adult\, $7 per child. Children 12 months and un
 der are free.\n\nJoin us for a pancake breakfast featuring pancakes (plain
 \, apple\, and chocolate chip) served with pure maple syrup\, bacon/ sau
 sage\, and choice of coffee\, milk\, or orange juice.\n\nWhen you come fo
 r breakfast be sure to visit our animals indoors and our outdoor maple sug
 aring demonstrations. Learn how to identify a Sugar Maple and try your han
 d at tapping a tree. See the different methods that Native Americans and c
 olonists used to collect and boil sap to make maple syrup and sugar. Learn
  how you can make maple syrup in your own backyard on a small scale and vi
 sit our mobile sugarhouse to learn how we make our maple syrup.\n\nIf pure
  maple syrup is one of your favorite things\, ELCCT's own maple syrup and 
 maple candy will be available for sale.\n\nIf you have any question please
  contact the office at 860-583-1234.
ATTACH;FMTTYPE=image/jpeg:https://elcct.org/wp-content/uploads/2025/12/PB-
 2026.png
LOCATION:Indian Rock Nature Preserve\, 501 Wolcott Road\, Bristol\, Connect
 icut\, 06010\, Hartford\, United States
X-APPLE-STRUCTURED-LOCATION;VALUE=URI;X-ADDRESS=501 Wolcott Road\, Bristol\
 , Connecticut\, 06010\, Hartford\, United States;X-APPLE-RADIUS=100;X-TITL
 E=Indian Rock Nature Preserve:geo:0,0
END:VEVENT
BEGIN:VTIMEZONE
TZID:America/New_York
X-LIC-LOCATION:America/New_York
BEGIN:STANDARD
DTSTART:20251102T010000
TZOFFSETFROM:-0400
TZOFFSETTO:-0500
TZNAME:EST
END:STANDARD
END:VTIMEZONE
END:VCALENDAR