BEGIN:VCALENDAR
VERSION:2.0
PRODID:-//wp-events-plugin.com//7.2.3.1//EN
TZID:America/New_York
X-WR-TIMEZONE:America/New_York
BEGIN:VEVENT
UID:74@elcct.org
DTSTART;TZID=America/New_York:20250426T100000
DTEND;TZID=America/New_York:20250426T140000
DTSTAMP:20250409T192942Z
URL:https://elcct.org/events/intro-to-wilderness-survival-skills/
SUMMARY:Intro to Wilderness Survival Skills
DESCRIPTION:This workshop aims to equip individuals with fundamental skills
  and knowledge to confidently respond to emergencies in remote areas\, foc
 using on essential techniques like shelter building\, fire starting\, wate
 r purification\, terrain association navigation and signaling allowing the
 m to prioritize their needs and improvise using natural resources in a sur
 vival situation. We will also talk about essential survival kit items to a
 lways carry on your person.\n\nFee: $30 non-member/$25 Member\nThis progra
 m is for ages 12 and up (Children must be accompanied by a paying adult).\
 n\nRegistration is required here.\nThis event will take place at the India
 n Rock Nature Preserve from 10am to 2pm on April 26th\, 2025.\n\n&nbsp\;
ATTACH;FMTTYPE=image/jpeg:https://elcct.org/wp-content/uploads/2025/02/fir
 e-1891833_1280.jpg
LOCATION:Indian Rock Nature Preserve\, 501 Wolcott Road\, Bristol\, Connect
 icut\, 06010\, Hartford\, United States
X-APPLE-STRUCTURED-LOCATION;VALUE=URI;X-ADDRESS=501 Wolcott Road\, Bristol\
 , Connecticut\, 06010\, Hartford\, United States;X-APPLE-RADIUS=100;X-TITL
 E=Indian Rock Nature Preserve:geo:0,0
END:VEVENT
BEGIN:VTIMEZONE
TZID:America/New_York
X-LIC-LOCATION:America/New_York
BEGIN:DAYLIGHT
DTSTART:20250309T030000
TZOFFSETFROM:-0500
TZOFFSETTO:-0400
TZNAME:EDT
END:DAYLIGHT
END:VTIMEZONE
END:VCALENDAR