BEGIN:VCALENDAR
VERSION:2.0
PRODID:-//wp-events-plugin.com//7.2.3.1//EN
TZID:America/New_York
X-WR-TIMEZONE:America/New_York
BEGIN:VEVENT
UID:143@elcct.org
DTSTART;TZID=America/New_York:20260510T130000
DTEND;TZID=America/New_York:20260510T150000
DTSTAMP:20260415T183525Z
URL:https://elcct.org/events/mothers-day-fairy-gardens/
SUMMARY:Mother's Day Fairy Gardens
DESCRIPTION:&nbsp\;\n\nSunday\, May 10th ongoing from 1:00-3:00 while suppl
 ies last.\n\nBring your special person and join us for an afternoon of cre
 ating a little Fairy Garden.\n\n$15 per Fairy Garden\n\nWalk-ins welcome!\
 n\n&nbsp\;
ATTACH;FMTTYPE=image/jpeg:https://elcct.org/wp-content/uploads/2026/04/Fai
 ry-Garden-Final.png
LOCATION:Harry C. Barnes Memorial Nature Center\, 175 Shrub Road\, Bristol\
 , CT\, 06010\, United States
GEO:41.71444839999999;-72.93990289999999
X-APPLE-STRUCTURED-LOCATION;VALUE=URI;X-ADDRESS=175 Shrub Road\, Bristol\, 
 CT\, 06010\, United States;X-APPLE-RADIUS=100;X-TITLE=Harry C. Barnes Memo
 rial Nature Center:geo:41.71444839999999,-72.93990289999999
END:VEVENT
BEGIN:VTIMEZONE
TZID:America/New_York
X-LIC-LOCATION:America/New_York
BEGIN:DAYLIGHT
DTSTART:20260308T030000
TZOFFSETFROM:-0500
TZOFFSETTO:-0400
TZNAME:EDT
END:DAYLIGHT
END:VTIMEZONE
END:VCALENDAR