BEGIN:VCALENDAR
VERSION:2.0
PRODID:-//wp-events-plugin.com//7.2.3.1//EN
TZID:America/New_York
X-WR-TIMEZONE:America/New_York
BEGIN:VEVENT
UID:26@elcct.org
DTSTART;TZID=America/New_York:20240825T120000
DTEND;TZID=America/New_York:20240825T170000
DTSTAMP:20240825T115911Z
URL:https://elcct.org/events/music-on-the-farm/
SUMMARY:Music on the Farm
DESCRIPTION:Music on the Farm is back for its 7th year at the Indian Rock N
 ature Preserve. This event will take place on our educational farm.\n\nWe'
 ll have two main bands this year. Up first is an Wanda Houston and HBH\, w
 ith special guests.\nOur headliner for the day is Already Gone\, and Eagle
 s tribute band!\n\nEnjoy Matt Sperzel as a solo acoustic between acts.\n\n
 Doors open at 12:00pm. Music starts at 1pm and plays until 5pm. Beer\, win
 e\, and food will be for sale.
ATTACH;FMTTYPE=image/jpeg:https://elcct.org/wp-content/uploads/2024/05/MOT
 F-Flier-2024-8-12-24-reduced.jpg
LOCATION:Indian Rock Nature Preserve\, 501 Wolcott Road\, Bristol\, Connect
 icut\, 06010\, Hartford\, United States
X-APPLE-STRUCTURED-LOCATION;VALUE=URI;X-ADDRESS=501 Wolcott Road\, Bristol\
 , Connecticut\, 06010\, Hartford\, United States;X-APPLE-RADIUS=100;X-TITL
 E=Indian Rock Nature Preserve:geo:0,0
END:VEVENT
BEGIN:VTIMEZONE
TZID:America/New_York
X-LIC-LOCATION:America/New_York
BEGIN:DAYLIGHT
DTSTART:20240310T030000
TZOFFSETFROM:-0500
TZOFFSETTO:-0400
TZNAME:EDT
END:DAYLIGHT
END:VTIMEZONE
END:VCALENDAR