BEGIN:VCALENDAR
VERSION:2.0
PRODID:-//wp-events-plugin.com//7.2.3.1//EN
TZID:America/New_York
X-WR-TIMEZONE:America/New_York
BEGIN:VEVENT
UID:135@elcct.org
DTSTART;TZID=America/New_York:20260801T100000
DTEND;TZID=America/New_York:20260801T120000
DTSTAMP:20260211T182948Z
URL:https://elcct.org/events/nature-awareness-family-program-irnp/
SUMMARY:Nature Awareness Family Program @ IRNP
DESCRIPTION:August 1st 10:00-12:00 at Indian Rock Nature Preserve\n\nNature
  Awareness Family Program\n\n$5 member/$10 non-member\n\nOpen to all ages 
 (all children must be accompanied by a paying adult)\n\nThis beginner Natu
 re Awareness Workshop introduces participants to the core practices of dee
 p nature connection. Through simple\, experiential exercises\, students le
 arn to slow down\, become fully present\, and sharpen their natural abilit
 y to observe the landscape through sight\, sound\, and intuition.\n\nParti
 cipants will practice focused listening\, wide-angle vision\, and pattern 
 recognition while exploring how to notice movement\, changes\, and subtle 
 details often overlooked in\n\nthe outdoors. A key component of the worksh
 op is the Sit Spot practice—learning how to choose a location\, remain s
 till\, and build a personal routine that deepens awareness and connection 
 over time.\n\nThis workshop is ideal for beginners\, wilderness students\,
  educators\, and anyone seeking a stronger relationship with the natural w
 orld. Instruction is calm\, experiential\, and rooted in curiosity\, empha
 sizing awareness as the foundation for all outdoor and wilderness skills.\
 n\nPre-register HERE.
ATTACH;FMTTYPE=image/jpeg:https://elcct.org/wp-content/uploads/2026/02/1-2
 .png
LOCATION:Indian Rock Nature Preserve\, 501 Wolcott Road\, Bristol\, Connect
 icut\, 06010\, Hartford\, United States
X-APPLE-STRUCTURED-LOCATION;VALUE=URI;X-ADDRESS=501 Wolcott Road\, Bristol\
 , Connecticut\, 06010\, Hartford\, United States;X-APPLE-RADIUS=100;X-TITL
 E=Indian Rock Nature Preserve:geo:0,0
END:VEVENT
BEGIN:VTIMEZONE
TZID:America/New_York
X-LIC-LOCATION:America/New_York
BEGIN:DAYLIGHT
DTSTART:20260308T030000
TZOFFSETFROM:-0500
TZOFFSETTO:-0400
TZNAME:EDT
END:DAYLIGHT
END:VTIMEZONE
END:VCALENDAR