BEGIN:VCALENDAR
VERSION:2.0
PRODID:-//wp-events-plugin.com//7.2.3.1//EN
TZID:America/New_York
X-WR-TIMEZONE:America/New_York
BEGIN:VEVENT
UID:136@elcct.org
DTSTART;TZID=America/New_York:20261010T100000
DTEND;TZID=America/New_York:20261010T140000
DTSTAMP:20260211T183312Z
URL:https://elcct.org/events/primitive-fire-skills/
SUMMARY:Primitive Fire Skills @ IRNP
DESCRIPTION:October 10th 10:00-2:00 at Indian Rock Nature Preserve\n\nPrimi
 tive Fire Skills\n\n$35 member/$40 non-member\n\nAges 12 + (all children m
 ust be accompanied by a paying adult)\n\nThis Primitive Fire Workshop expl
 ores humanity’s ancient relationship with fire\, tracing its role in sur
 vival\, culture\, and daily life for early humans. Students begin with a b
 rief discussion on the history of fire-making and how mastering fire funda
 mentally shaped human evolution\, movement\, and connection to the natural
  world.\n\nParticipants then head into the forest to craft their own bow d
 rill fire set using natural materials. Instruction focuses on wood selecti
 on\, tool preparation\, body mechanics\, and developing proper technique. 
 Students will practice the ancient skill of fire by friction\, learning pa
 tience\, rhythm\, and efficiency—key traits required for successful prim
 itive fire craft.\n\nThis hands-on workshop emphasizes self-reliance\, res
 pect for fire\, and an understanding of fire as a living tool rather than 
 a modern convenience. Instruction is experiential and supportive\, giving 
 students a deeper appreciation for the skill\, effort\, and knowledge earl
 y humans relied upon to survive.\n\nRegister Here!
ATTACH;FMTTYPE=image/jpeg:https://elcct.org/wp-content/uploads/2026/02/2-3
 .png
LOCATION:Indian Rock Nature Preserve\, 501 Wolcott Road\, Bristol\, Connect
 icut\, 06010\, Hartford\, United States
X-APPLE-STRUCTURED-LOCATION;VALUE=URI;X-ADDRESS=501 Wolcott Road\, Bristol\
 , Connecticut\, 06010\, Hartford\, United States;X-APPLE-RADIUS=100;X-TITL
 E=Indian Rock Nature Preserve:geo:0,0
END:VEVENT
BEGIN:VTIMEZONE
TZID:America/New_York
X-LIC-LOCATION:America/New_York
BEGIN:DAYLIGHT
DTSTART:20260308T030000
TZOFFSETFROM:-0500
TZOFFSETTO:-0400
TZNAME:EDT
END:DAYLIGHT
END:VTIMEZONE
END:VCALENDAR