BEGIN:VCALENDAR
VERSION:2.0
PRODID:-//wp-events-plugin.com//7.2.3.1//EN
TZID:America/New_York
X-WR-TIMEZONE:America/New_York
BEGIN:VEVENT
UID:131@elcct.org
DTSTART;TZID=America/New_York:20260425T103000
DTEND;TZID=America/New_York:20260425T143000
DTSTAMP:20260211T165720Z
URL:https://elcct.org/events/primitive-tools-stone-bone-and-wood-bnc/
SUMMARY:Primitive Tools: Stone\, Bone\, and Wood @ BNC
DESCRIPTION:$35 member/$40 non-member\n\nAges 12 + (all children must be ac
 companied by a paying adult)\n\nStep back into human history and learn how
  early people survived using nothing but skill\, creativity\, and natural 
 materials. In this hands-on\, 4-hour workshop\, we’ll explore the ingenu
 ity of early humans and the primitive tools they crafted from stone\, bone
 \, and wood to hunt\, build\, and thrive.\n\nWe’ll begin with a short di
 scussion on early human survival and tool use\, examining authentic exampl
 es and replicas to understand how these tools were made and why they worke
 d so well. From there\, we’ll dive into the history and function of one 
 of humanity’s most effective hunting tools—the Atlatl.\n\nAfter learni
 ng its origins and use\, students will construct their own primitive Atlat
 l using traditional methods and natural materials. This course emphasizes 
 learning by doing\, problem-solving\, and developing a deeper appreciation
  for ancestral skills that laid the foundation for human survival.\n\nNo p
 rior experience is required. Registration is required HERE.
ATTACH;FMTTYPE=image/jpeg:https://elcct.org/wp-content/uploads/2026/02/Cop
 y-of-Knots-and-Lashings.png
LOCATION:Harry C. Barnes Memorial Nature Center\, 175 Shrub Road\, Bristol\
 , CT\, 06010\, United States
GEO:41.71444839999999;-72.93990289999999
X-APPLE-STRUCTURED-LOCATION;VALUE=URI;X-ADDRESS=175 Shrub Road\, Bristol\, 
 CT\, 06010\, United States;X-APPLE-RADIUS=100;X-TITLE=Harry C. Barnes Memo
 rial Nature Center:geo:41.71444839999999,-72.93990289999999
END:VEVENT
BEGIN:VTIMEZONE
TZID:America/New_York
X-LIC-LOCATION:America/New_York
BEGIN:DAYLIGHT
DTSTART:20260308T030000
TZOFFSETFROM:-0500
TZOFFSETTO:-0400
TZNAME:EDT
END:DAYLIGHT
END:VTIMEZONE
END:VCALENDAR