BEGIN:VCALENDAR
VERSION:2.0
PRODID:-//wp-events-plugin.com//7.2.3.1//EN
TZID:America/New_York
X-WR-TIMEZONE:America/New_York
BEGIN:VEVENT
UID:134@elcct.org
DTSTART;TZID=America/New_York:20260926T100000
DTEND;TZID=America/New_York:20260926T130000
DTSTAMP:20260211T182124Z
URL:https://elcct.org/events/wild-edible-series-fall-pigeon-hill/
SUMMARY:Wild Edible Series: Fall @ Pigeon Hill
DESCRIPTION:Wild Edibles Series\nPer program $35 member/$40 non-member\n\nA
 dults only\n\n\nThis class is catered towards students from all skill leve
 ls and no experience is required. Participants will learn how to identify\
 , harvest\, and use various plants and trees from the environment to use a
 s food or medicine. Participants will walk away with a deeper understandin
 g of the forest\, and how it can provide everything we need to become self
 -reliant.\n\n\nParticipants can sign up for the full series or individual 
 programs. \n\nYou must pre-register HERE.
ATTACH;FMTTYPE=image/jpeg:https://elcct.org/wp-content/uploads/2026/02/3.p
 ng
LOCATION:Pigeon Hill Preserve\, 315 Shrub Road\, Bristol\, Connecticut\, 06
 010\, United States
X-APPLE-STRUCTURED-LOCATION;VALUE=URI;X-ADDRESS=315 Shrub Road\, Bristol\, 
 Connecticut\, 06010\, United States;X-APPLE-RADIUS=100;X-TITLE=Pigeon Hill
  Preserve:geo:0,0
END:VEVENT
BEGIN:VTIMEZONE
TZID:America/New_York
X-LIC-LOCATION:America/New_York
BEGIN:DAYLIGHT
DTSTART:20260308T030000
TZOFFSETFROM:-0500
TZOFFSETTO:-0400
TZNAME:EDT
END:DAYLIGHT
END:VTIMEZONE
END:VCALENDAR