BEGIN:VCALENDAR
VERSION:2.0
PRODID:-//wp-events-plugin.com//7.2.3.1//EN
TZID:America/New_York
X-WR-TIMEZONE:America/New_York
BEGIN:VEVENT
UID:132@elcct.org
DTSTART;TZID=America/New_York:20260502T100000
DTEND;TZID=America/New_York:20260502T130000
DTSTAMP:20260211T181959Z
URL:https://elcct.org/events/wild-edible-series-spring-pigeon-hill/
SUMMARY:Wild Edible Series: Spring @ Pigeon Hill
DESCRIPTION:May 2nd (Spring) July 11th (Summer) September 26th (Fall) 10:00
 -1:00 at Pigeon Hill Preserve.\n\nWild Edibles Series\nPer program $35 mem
 ber/$40 non-member\nFull series $85 member/$100 non-member\n\nAdults only\
 n\nThis three season course is designed to encourage participants to devel
 op a deeper understanding for useful trees and plants\, and as a possible 
 resource in the fields of bushcraft and survival during the spring\, summe
 r\, and fall. Participants may sign up for the sessions individually or si
 gn up for the full series.\n\n\nThis class is catered towards students fro
 m all skill levels and no experience is required. Participants will learn 
 how to identify\, harvest\, and use various plants and trees from the envi
 ronment to use as food or medicine. Participants will walk away with a dee
 per understanding of the forest\, and how it can provide everything we nee
 d to become self-reliant.\n\n\nParticipants can sign up for the full serie
 s or individual programs. \n\nYou must pre-register HERE.
ATTACH;FMTTYPE=image/jpeg:https://elcct.org/wp-content/uploads/2026/02/1-1
 .png
LOCATION:Pigeon Hill Preserve\, 315 Shrub Road\, Bristol\, Connecticut\, 06
 010\, United States
X-APPLE-STRUCTURED-LOCATION;VALUE=URI;X-ADDRESS=315 Shrub Road\, Bristol\, 
 Connecticut\, 06010\, United States;X-APPLE-RADIUS=100;X-TITLE=Pigeon Hill
  Preserve:geo:0,0
END:VEVENT
BEGIN:VTIMEZONE
TZID:America/New_York
X-LIC-LOCATION:America/New_York
BEGIN:DAYLIGHT
DTSTART:20260308T030000
TZOFFSETFROM:-0500
TZOFFSETTO:-0400
TZNAME:EDT
END:DAYLIGHT
END:VTIMEZONE
END:VCALENDAR