BEGIN:VCALENDAR
VERSION:2.0
PRODID:-//wp-events-plugin.com//7.2.3.1//EN
TZID:America/New_York
X-WR-TIMEZONE:America/New_York
BEGIN:VEVENT
UID:133@elcct.org
DTSTART;TZID=America/New_York:20260711T100000
DTEND;TZID=America/New_York:20260711T130000
DTSTAMP:20260211T182034Z
URL:https://elcct.org/events/wild-edible-series-summer-pigeon-hill/
SUMMARY:Wild Edible Series: Summer @ Pigeon Hill
DESCRIPTION:Wild Edibles Series\nPer program $35 member/$40 non-member\nFul
 l series $85 member/$100 non-member\n\nAdults only\n\nThis three season co
 urse is designed to encourage participants to develop a deeper understandi
 ng for useful trees and plants\, and as a possible resource in the fields 
 of bushcraft and survival during the spring\, summer\, and fall. Participa
 nts may sign up for the sessions individually or sign up for the full seri
 es.\n\n\nThis class is catered towards students from all skill levels and 
 no experience is required. Participants will learn how to identify\, harve
 st\, and use various plants and trees from the environment to use as food 
 or medicine. Participants will walk away with a deeper understanding of th
 e forest\, and how it can provide everything we need to become self-relian
 t.\n\n\nParticipants can sign up for the full series or individual program
 s. \n\nYou must pre-register HERE.
ATTACH;FMTTYPE=image/jpeg:https://elcct.org/wp-content/uploads/2026/02/2-1
 .png
LOCATION:Pigeon Hill Preserve\, 315 Shrub Road\, Bristol\, Connecticut\, 06
 010\, United States
X-APPLE-STRUCTURED-LOCATION;VALUE=URI;X-ADDRESS=315 Shrub Road\, Bristol\, 
 Connecticut\, 06010\, United States;X-APPLE-RADIUS=100;X-TITLE=Pigeon Hill
  Preserve:geo:0,0
END:VEVENT
BEGIN:VTIMEZONE
TZID:America/New_York
X-LIC-LOCATION:America/New_York
BEGIN:DAYLIGHT
DTSTART:20260308T030000
TZOFFSETFROM:-0500
TZOFFSETTO:-0400
TZNAME:EDT
END:DAYLIGHT
END:VTIMEZONE
END:VCALENDAR